Package: iterativeBMA Version: 1.69.0 Command: /Library/Frameworks/R.framework/Resources/bin/R CMD INSTALL iterativeBMA StartedAt: 2025-11-19 15:08:37 -0500 (Wed, 19 Nov 2025) EndedAt: 2025-11-19 15:08:40 -0500 (Wed, 19 Nov 2025) EllapsedTime: 3.4 seconds RetCode: 0 Status: OK