Package: iterativeBMA Version: 1.69.0 Command: /Library/Frameworks/R.framework/Resources/bin/R CMD INSTALL iterativeBMA StartedAt: 2025-11-21 15:19:02 -0500 (Fri, 21 Nov 2025) EndedAt: 2025-11-21 15:19:19 -0500 (Fri, 21 Nov 2025) EllapsedTime: 16.3 seconds RetCode: 0 Status: OK