Package: methInheritSim Version: 1.33.0 Command: /Library/Frameworks/R.framework/Resources/bin/R CMD INSTALL methInheritSim StartedAt: 2025-11-18 15:27:50 -0500 (Tue, 18 Nov 2025) EndedAt: 2025-11-18 15:28:06 -0500 (Tue, 18 Nov 2025) EllapsedTime: 16.2 seconds RetCode: 0 Status: OK