Package: methInheritSim Version: 1.33.0 Command: rm -rf methInheritSim.buildbin-libdir && mkdir methInheritSim.buildbin-libdir && /Users/biocbuild/BBS/utils/build-universal.sh methInheritSim_1.33.0.tar.gz /Library/Frameworks/R.framework/Resources/bin/R methInheritSim.buildbin-libdir StartedAt: 2025-11-20 01:41:49 -0500 (Thu, 20 Nov 2025) EndedAt: 2025-11-20 01:42:46 -0500 (Thu, 20 Nov 2025) EllapsedTime: 56.9 seconds RetCode: 0 Status: OK PackageFile: methInheritSim_1.33.0.tgz PackageFileSize: 719.8 KiB