Package: methInheritSim Version: 1.33.0 Command: /Library/Frameworks/R.framework/Resources/bin/R CMD INSTALL methInheritSim StartedAt: 2025-11-19 15:37:05 -0500 (Wed, 19 Nov 2025) EndedAt: 2025-11-19 15:37:55 -0500 (Wed, 19 Nov 2025) EllapsedTime: 49.7 seconds RetCode: 0 Status: OK