Package: methInheritSim Version: 1.33.0 Command: /home/biocbuild/bbs-3.23-bioc/R/bin/R CMD build --keep-empty-dirs --no-resave-data methInheritSim StartedAt: 2025-11-19 18:36:02 -0500 (Wed, 19 Nov 2025) EndedAt: 2025-11-19 18:37:11 -0500 (Wed, 19 Nov 2025) EllapsedTime: 69.0 seconds RetCode: 0 Status: OK PackageFile: methInheritSim_1.33.0.tar.gz PackageFileSize: 1.117 MiB