Package: methylInheritance Version: 1.35.0 Command: /Library/Frameworks/R.framework/Resources/bin/R CMD INSTALL methylInheritance StartedAt: 2025-11-19 15:18:43 -0500 (Wed, 19 Nov 2025) EndedAt: 2025-11-19 15:18:59 -0500 (Wed, 19 Nov 2025) EllapsedTime: 16.7 seconds RetCode: 0 Status: OK