Package: methylInheritance Version: 1.35.0 Command: /Library/Frameworks/R.framework/Resources/bin/R CMD build --keep-empty-dirs --no-resave-data methylInheritance StartedAt: 2025-11-19 17:40:51 -0500 (Wed, 19 Nov 2025) EndedAt: 2025-11-19 17:42:21 -0500 (Wed, 19 Nov 2025) EllapsedTime: 89.9 seconds RetCode: 0 Status: OK PackageFile: methylInheritance_1.35.0.tar.gz PackageFileSize: 1.708 MiB