Package: motifStack Version: 1.55.0 Command: /Library/Frameworks/R.framework/Resources/bin/R CMD build --keep-empty-dirs --no-resave-data motifStack StartedAt: 2025-11-19 17:04:00 -0500 (Wed, 19 Nov 2025) EndedAt: 2025-11-19 17:04:49 -0500 (Wed, 19 Nov 2025) EllapsedTime: 48.5 seconds RetCode: 0 Status: OK PackageFile: motifStack_1.55.0.tar.gz PackageFileSize: 3.826 MiB