Package: motifStack Version: 1.55.0 Command: /Library/Frameworks/R.framework/Resources/bin/R CMD INSTALL motifStack StartedAt: 2025-11-18 15:37:26 -0500 (Tue, 18 Nov 2025) EndedAt: 2025-11-18 15:37:45 -0500 (Tue, 18 Nov 2025) EllapsedTime: 18.9 seconds RetCode: 0 Status: OK