Package: motifStack Version: 1.55.0 Command: rm -rf motifStack.buildbin-libdir && mkdir motifStack.buildbin-libdir && /Users/biocbuild/BBS/utils/build-universal.sh motifStack_1.55.0.tar.gz /Library/Frameworks/R.framework/Resources/bin/R motifStack.buildbin-libdir StartedAt: 2025-11-20 01:43:58 -0500 (Thu, 20 Nov 2025) EndedAt: 2025-11-20 01:45:06 -0500 (Thu, 20 Nov 2025) EllapsedTime: 67.9 seconds RetCode: 0 Status: OK PackageFile: motifStack_1.55.0.tgz PackageFileSize: 4.751 MiB