Package: motifStack Version: 1.55.0 Command: /Library/Frameworks/R.framework/Resources/bin/R CMD INSTALL motifStack StartedAt: 2025-11-18 15:48:02 -0500 (Tue, 18 Nov 2025) EndedAt: 2025-11-18 15:49:07 -0500 (Tue, 18 Nov 2025) EllapsedTime: 64.6 seconds RetCode: 0 Status: OK