Package: motifStack Version: 1.55.0 Command: /home/biocbuild/bbs-3.23-bioc/R/bin/R CMD INSTALL motifStack StartedAt: 2025-11-18 16:43:54 -0500 (Tue, 18 Nov 2025) EndedAt: 2025-11-18 16:44:42 -0500 (Tue, 18 Nov 2025) EllapsedTime: 48.0 seconds RetCode: 0 Status: OK