Package: multiHiCcompare Version: 1.29.0 Command: rm -rf multiHiCcompare.buildbin-libdir && mkdir multiHiCcompare.buildbin-libdir && /Users/biocbuild/BBS/utils/build-universal.sh multiHiCcompare_1.29.0.tar.gz /Library/Frameworks/R.framework/Resources/bin/R multiHiCcompare.buildbin-libdir StartedAt: 2025-11-18 23:50:42 -0500 (Tue, 18 Nov 2025) EndedAt: 2025-11-18 23:50:57 -0500 (Tue, 18 Nov 2025) EllapsedTime: 15.3 seconds RetCode: 0 Status: OK PackageFile: multiHiCcompare_1.29.0.tgz PackageFileSize: 5.34 MiB