Package: netboost Version: 2.19.0 Command: /Library/Frameworks/R.framework/Resources/bin/R CMD INSTALL netboost StartedAt: 2025-11-19 15:25:21 -0500 (Wed, 19 Nov 2025) EndedAt: 2025-11-19 15:25:39 -0500 (Wed, 19 Nov 2025) EllapsedTime: 18.0 seconds RetCode: 0 Status: OK