Package: netboost Version: 2.19.0 Command: rm -rf netboost.buildbin-libdir && mkdir netboost.buildbin-libdir && /Users/biocbuild/BBS/utils/build-universal.sh netboost_2.19.0.tar.gz /Library/Frameworks/R.framework/Resources/bin/R netboost.buildbin-libdir StartedAt: 2025-11-20 01:45:50 -0500 (Thu, 20 Nov 2025) EndedAt: 2025-11-20 01:47:25 -0500 (Thu, 20 Nov 2025) EllapsedTime: 95.7 seconds RetCode: 0 Status: OK PackageFile: netboost_2.19.0.tgz PackageFileSize: 1.123 MiB