Package: netboost Version: 2.19.0 Command: /Library/Frameworks/R.framework/Resources/bin/R CMD build --keep-empty-dirs --no-resave-data netboost StartedAt: 2025-11-19 17:59:46 -0500 (Wed, 19 Nov 2025) EndedAt: 2025-11-19 18:01:13 -0500 (Wed, 19 Nov 2025) EllapsedTime: 86.9 seconds RetCode: 0 Status: OK PackageFile: netboost_2.19.0.tar.gz PackageFileSize: 1.133 MiB