Package: netboost Version: 2.19.0 Command: /Library/Frameworks/R.framework/Resources/bin/R CMD INSTALL netboost StartedAt: 2025-11-19 15:45:38 -0500 (Wed, 19 Nov 2025) EndedAt: 2025-11-19 15:46:57 -0500 (Wed, 19 Nov 2025) EllapsedTime: 79.5 seconds RetCode: 0 Status: OK