Package: nipalsMCIA Version: 1.9.0 Command: /Library/Frameworks/R.framework/Resources/bin/R CMD build --keep-empty-dirs --no-resave-data nipalsMCIA StartedAt: 2025-11-19 17:10:04 -0500 (Wed, 19 Nov 2025) EndedAt: 2025-11-19 17:11:25 -0500 (Wed, 19 Nov 2025) EllapsedTime: 80.9 seconds RetCode: 0 Status: OK PackageFile: nipalsMCIA_1.9.0.tar.gz PackageFileSize: 3.777 MiB