Package: nipalsMCIA Version: 1.9.0 Command: /Library/Frameworks/R.framework/Resources/bin/R CMD INSTALL nipalsMCIA StartedAt: 2025-11-19 15:15:04 -0500 (Wed, 19 Nov 2025) EndedAt: 2025-11-19 15:15:15 -0500 (Wed, 19 Nov 2025) EllapsedTime: 10.2 seconds RetCode: 0 Status: OK