Package: nipalsMCIA Version: 1.9.0 Command: rm -rf nipalsMCIA.buildbin-libdir && mkdir nipalsMCIA.buildbin-libdir && /Users/biocbuild/BBS/utils/build-universal.sh nipalsMCIA_1.9.0.tar.gz /Library/Frameworks/R.framework/Resources/bin/R nipalsMCIA.buildbin-libdir StartedAt: 2025-11-20 01:45:59 -0500 (Thu, 20 Nov 2025) EndedAt: 2025-11-20 01:46:40 -0500 (Thu, 20 Nov 2025) EllapsedTime: 41.3 seconds RetCode: 0 Status: OK PackageFile: nipalsMCIA_1.9.0.tgz PackageFileSize: 4.008 MiB