Package: nipalsMCIA Version: 1.9.0 Command: /home/biocbuild/bbs-3.23-bioc/R/bin/R CMD INSTALL nipalsMCIA StartedAt: 2025-11-19 15:24:11 -0500 (Wed, 19 Nov 2025) EndedAt: 2025-11-19 15:24:38 -0500 (Wed, 19 Nov 2025) EllapsedTime: 26.8 seconds RetCode: 0 Status: OK