Package: omicplotR Version: 1.31.0 Command: /Library/Frameworks/R.framework/Resources/bin/R CMD INSTALL omicplotR StartedAt: 2025-11-18 15:29:43 -0500 (Tue, 18 Nov 2025) EndedAt: 2025-11-18 15:29:52 -0500 (Tue, 18 Nov 2025) EllapsedTime: 9.4 seconds RetCode: 0 Status: OK