Package: omicplotR Version: 1.31.0 Command: rm -rf omicplotR.buildbin-libdir && mkdir omicplotR.buildbin-libdir && /Users/biocbuild/BBS/utils/build-universal.sh omicplotR_1.31.0.tar.gz /Library/Frameworks/R.framework/Resources/bin/R omicplotR.buildbin-libdir StartedAt: 2025-11-20 01:46:42 -0500 (Thu, 20 Nov 2025) EndedAt: 2025-11-20 01:47:18 -0500 (Thu, 20 Nov 2025) EllapsedTime: 35.9 seconds RetCode: 0 Status: OK PackageFile: omicplotR_1.31.0.tgz PackageFileSize: 1.182 MiB