Package: omicplotR Version: 1.31.0 Command: /Library/Frameworks/R.framework/Resources/bin/R CMD build --keep-empty-dirs --no-resave-data omicplotR StartedAt: 2025-11-18 17:59:16 -0500 (Tue, 18 Nov 2025) EndedAt: 2025-11-18 17:59:47 -0500 (Tue, 18 Nov 2025) EllapsedTime: 30.9 seconds RetCode: 0 Status: OK PackageFile: omicplotR_1.31.0.tar.gz PackageFileSize: 1.64 MiB