Package: omicplotR Version: 1.31.0 Command: /home/biocbuild/bbs-3.23-bioc/R/bin/R CMD build --keep-empty-dirs --no-resave-data omicplotR StartedAt: 2025-11-18 19:55:24 -0500 (Tue, 18 Nov 2025) EndedAt: 2025-11-18 19:55:49 -0500 (Tue, 18 Nov 2025) EllapsedTime: 25.1 seconds RetCode: 0 Status: OK PackageFile: omicplotR_1.31.0.tar.gz PackageFileSize: 1.64 MiB