Package: omicplotR Version: 1.31.0 Command: /home/biocbuild/bbs-3.23-bioc/R/bin/R CMD INSTALL omicplotR StartedAt: 2025-11-18 16:28:43 -0500 (Tue, 18 Nov 2025) EndedAt: 2025-11-18 16:29:07 -0500 (Tue, 18 Nov 2025) EllapsedTime: 23.8 seconds RetCode: 0 Status: OK