Package: ompBAM Version: 1.15.0 Command: /Library/Frameworks/R.framework/Resources/bin/R CMD INSTALL ompBAM StartedAt: 2025-11-19 15:03:08 -0500 (Wed, 19 Nov 2025) EndedAt: 2025-11-19 15:03:10 -0500 (Wed, 19 Nov 2025) EllapsedTime: 2.6 seconds RetCode: 0 Status: OK