Package: pcaMethods Version: 2.3.0 Command: /Library/Frameworks/R.framework/Resources/bin/R CMD build --keep-empty-dirs --no-resave-data pcaMethods StartedAt: 2025-11-18 17:26:07 -0500 (Tue, 18 Nov 2025) EndedAt: 2025-11-18 17:26:54 -0500 (Tue, 18 Nov 2025) EllapsedTime: 46.5 seconds RetCode: 0 Status: OK PackageFile: pcaMethods_2.3.0.tar.gz PackageFileSize: 1018 KiB