Package: pcaMethods Version: 2.3.0 Command: /Library/Frameworks/R.framework/Resources/bin/R CMD build --keep-empty-dirs --no-resave-data pcaMethods StartedAt: 2025-11-19 18:09:23 -0500 (Wed, 19 Nov 2025) EndedAt: 2025-11-19 18:12:15 -0500 (Wed, 19 Nov 2025) EllapsedTime: 172.3 seconds RetCode: 0 Status: OK PackageFile: pcaMethods_2.3.0.tar.gz PackageFileSize: 1017 KiB