Package: pcaMethods Version: 2.3.0 Command: /Library/Frameworks/R.framework/Resources/bin/R CMD INSTALL pcaMethods StartedAt: 2025-11-18 15:18:22 -0500 (Tue, 18 Nov 2025) EndedAt: 2025-11-18 15:18:44 -0500 (Tue, 18 Nov 2025) EllapsedTime: 22.5 seconds RetCode: 0 Status: OK