Package: pepXMLTab Version: 1.45.0 Command: /Library/Frameworks/R.framework/Resources/bin/R CMD build --keep-empty-dirs --no-resave-data pepXMLTab StartedAt: 2025-11-18 17:27:00 -0500 (Tue, 18 Nov 2025) EndedAt: 2025-11-18 17:27:05 -0500 (Tue, 18 Nov 2025) EllapsedTime: 5.1 seconds RetCode: 0 Status: OK PackageFile: pepXMLTab_1.45.0.tar.gz PackageFileSize: 187.7 KiB