Package: pepXMLTab Version: 1.45.0 Command: /Library/Frameworks/R.framework/Resources/bin/R CMD INSTALL pepXMLTab StartedAt: 2025-11-18 15:12:17 -0500 (Tue, 18 Nov 2025) EndedAt: 2025-11-18 15:12:20 -0500 (Tue, 18 Nov 2025) EllapsedTime: 3.2 seconds RetCode: 0 Status: OK