Package: plotGrouper Version: 1.29.0 Command: rm -rf plotGrouper.buildbin-libdir && mkdir plotGrouper.buildbin-libdir && /Users/biocbuild/BBS/utils/build-universal.sh plotGrouper_1.29.0.tar.gz /Library/Frameworks/R.framework/Resources/bin/R plotGrouper.buildbin-libdir StartedAt: 2025-11-19 23:46:50 -0500 (Wed, 19 Nov 2025) EndedAt: 2025-11-19 23:46:55 -0500 (Wed, 19 Nov 2025) EllapsedTime: 4.1 seconds RetCode: 0 Status: OK PackageFile: plotGrouper_1.29.0.tgz PackageFileSize: 371.4 KiB