Package: plotGrouper Version: 1.29.0 Command: /Library/Frameworks/R.framework/Resources/bin/R CMD build --keep-empty-dirs --no-resave-data plotGrouper StartedAt: 2025-11-19 18:13:51 -0500 (Wed, 19 Nov 2025) EndedAt: 2025-11-19 18:14:05 -0500 (Wed, 19 Nov 2025) EllapsedTime: 13.7 seconds RetCode: 0 Status: OK PackageFile: plotGrouper_1.29.0.tar.gz PackageFileSize: 704.6 KiB