Package: plotGrouper Version: 1.29.0 Command: /Library/Frameworks/R.framework/Resources/bin/R CMD INSTALL plotGrouper StartedAt: 2025-11-19 15:17:34 -0500 (Wed, 19 Nov 2025) EndedAt: 2025-11-19 15:17:55 -0500 (Wed, 19 Nov 2025) EllapsedTime: 21.4 seconds RetCode: 0 Status: OK