Package: plotGrouper Version: 1.29.0 Command: /home/biocbuild/bbs-3.23-bioc/R/bin/R CMD build --keep-empty-dirs --no-resave-data plotGrouper StartedAt: 2025-11-19 19:21:50 -0500 (Wed, 19 Nov 2025) EndedAt: 2025-11-19 19:21:59 -0500 (Wed, 19 Nov 2025) EllapsedTime: 9.0 seconds RetCode: 0 Status: OK PackageFile: plotGrouper_1.29.0.tar.gz PackageFileSize: 704.7 KiB