Package: preciseTAD Version: 1.21.0 Command: /Library/Frameworks/R.framework/Resources/bin/R CMD build --keep-empty-dirs --no-resave-data preciseTAD StartedAt: 2025-11-19 17:20:06 -0500 (Wed, 19 Nov 2025) EndedAt: 2025-11-19 17:22:32 -0500 (Wed, 19 Nov 2025) EllapsedTime: 145.7 seconds RetCode: 0 Status: OK PackageFile: preciseTAD_1.21.0.tar.gz PackageFileSize: 4.073 MiB