Package: preciseTAD Version: 1.21.0 Command: /Library/Frameworks/R.framework/Resources/bin/R CMD INSTALL preciseTAD StartedAt: 2025-11-19 15:33:44 -0500 (Wed, 19 Nov 2025) EndedAt: 2025-11-19 15:34:00 -0500 (Wed, 19 Nov 2025) EllapsedTime: 16.7 seconds RetCode: 0 Status: OK