Package: preciseTAD Version: 1.21.0 Command: /Library/Frameworks/R.framework/Resources/bin/R CMD build --keep-empty-dirs --no-resave-data preciseTAD StartedAt: 2025-11-23 18:19:21 -0500 (Sun, 23 Nov 2025) EndedAt: 2025-11-23 18:23:38 -0500 (Sun, 23 Nov 2025) EllapsedTime: 257.1 seconds RetCode: 0 Status: OK PackageFile: preciseTAD_1.21.0.tar.gz PackageFileSize: 4.072 MiB