Package: preciseTAD Version: 1.21.0 Command: /Library/Frameworks/R.framework/Resources/bin/R CMD INSTALL preciseTAD StartedAt: 2025-11-23 16:01:34 -0500 (Sun, 23 Nov 2025) EndedAt: 2025-11-23 16:02:12 -0500 (Sun, 23 Nov 2025) EllapsedTime: 38.3 seconds RetCode: 0 Status: OK