Package: preprocessCore Version: 1.73.0 Command: /Library/Frameworks/R.framework/Resources/bin/R CMD build --keep-empty-dirs --no-resave-data preprocessCore StartedAt: 2025-11-18 17:30:06 -0500 (Tue, 18 Nov 2025) EndedAt: 2025-11-18 17:30:07 -0500 (Tue, 18 Nov 2025) EllapsedTime: 1.0 seconds RetCode: 0 Status: OK PackageFile: preprocessCore_1.73.0.tar.gz PackageFileSize: 124.8 KiB