Package: preprocessCore Version: 1.73.0 Command: /Library/Frameworks/R.framework/Resources/bin/R CMD build --keep-empty-dirs --no-resave-data preprocessCore StartedAt: 2025-11-18 18:11:57 -0500 (Tue, 18 Nov 2025) EndedAt: 2025-11-18 18:11:59 -0500 (Tue, 18 Nov 2025) EllapsedTime: 2.3 seconds RetCode: 0 Status: OK PackageFile: preprocessCore_1.73.0.tar.gz PackageFileSize: 124.8 KiB