Package: preprocessCore Version: 1.73.0 Command: /Library/Frameworks/R.framework/Resources/bin/R CMD INSTALL preprocessCore StartedAt: 2025-11-18 15:17:08 -0500 (Tue, 18 Nov 2025) EndedAt: 2025-11-18 15:17:38 -0500 (Tue, 18 Nov 2025) EllapsedTime: 29.7 seconds RetCode: 0 Status: OK