Package: preprocessCore Version: 1.73.0 Command: /home/biocbuild/bbs-3.23-bioc/R/bin/R CMD INSTALL preprocessCore StartedAt: 2025-11-18 16:04:07 -0500 (Tue, 18 Nov 2025) EndedAt: 2025-11-18 16:04:18 -0500 (Tue, 18 Nov 2025) EllapsedTime: 11.2 seconds RetCode: 0 Status: OK