Package: r3Cseq Version: 1.57.0 Command: /Library/Frameworks/R.framework/Resources/bin/R CMD INSTALL r3Cseq StartedAt: 2025-11-18 15:28:05 -0500 (Tue, 18 Nov 2025) EndedAt: 2025-11-18 15:28:21 -0500 (Tue, 18 Nov 2025) EllapsedTime: 16.6 seconds RetCode: 0 Status: OK