Package: r3Cseq Version: 1.57.0 Command: rm -rf r3Cseq.buildbin-libdir && mkdir r3Cseq.buildbin-libdir && /Users/biocbuild/BBS/utils/build-universal.sh r3Cseq_1.57.0.tar.gz /Library/Frameworks/R.framework/Resources/bin/R r3Cseq.buildbin-libdir StartedAt: 2025-11-26 02:03:01 -0500 (Wed, 26 Nov 2025) EndedAt: 2025-11-26 02:04:04 -0500 (Wed, 26 Nov 2025) EllapsedTime: 63.1 seconds RetCode: 0 Status: OK PackageFile: r3Cseq_1.57.0.tgz PackageFileSize: 2.941 MiB