Package: r3Cseq Version: 1.57.0 Command: /Library/Frameworks/R.framework/Resources/bin/R CMD build --keep-empty-dirs --no-resave-data r3Cseq StartedAt: 2025-11-25 18:30:03 -0500 (Tue, 25 Nov 2025) EndedAt: 2025-11-25 18:32:09 -0500 (Tue, 25 Nov 2025) EllapsedTime: 125.8 seconds RetCode: 0 Status: OK PackageFile: r3Cseq_1.57.0.tar.gz PackageFileSize: 4.326 MiB