Package: randRotation Version: 1.23.0 Command: /Library/Frameworks/R.framework/Resources/bin/R CMD INSTALL randRotation StartedAt: 2025-11-21 15:02:17 -0500 (Fri, 21 Nov 2025) EndedAt: 2025-11-21 15:02:27 -0500 (Fri, 21 Nov 2025) EllapsedTime: 9.8 seconds RetCode: 0 Status: OK