Package: sampleClassifier Version: 1.35.0 Command: rm -rf sampleClassifier.buildbin-libdir && mkdir sampleClassifier.buildbin-libdir && /Users/biocbuild/BBS/utils/build-universal.sh sampleClassifier_1.35.0.tar.gz /Library/Frameworks/R.framework/Resources/bin/R sampleClassifier.buildbin-libdir StartedAt: 2025-11-19 23:50:59 -0500 (Wed, 19 Nov 2025) EndedAt: 2025-11-19 23:51:07 -0500 (Wed, 19 Nov 2025) EllapsedTime: 8.1 seconds RetCode: 0 Status: OK PackageFile: sampleClassifier_1.35.0.tgz PackageFileSize: 271.9 KiB